BEGIN:VCALENDAR
VERSION:2.0
PRODID:SchoolNow
CALSCALE:GREGORIAN
BEGIN:VEVENT
UID:928ed6cc-34c0-11ef-ba06-0affe900a1ff
DTSTAMP:20240821T152556Z
SUMMARY:Public Board of Education meeting (8/22)
DESCRIPTION:Anticipated executive session at 5:30 p.m.
LOCATION:Harriet Gibbons Student Services Center\, 75 Watervliet Ave.
URL;VALUE=URI:https://www.albanyschools.org/boe/calendar/6176178/public-boa
 rd-of-education-meeting-8-22
DTSTART:20240822T223000Z
DTEND:20240822T233000Z
END:VEVENT
END:VCALENDAR
