BEGIN:VCALENDAR
VERSION:2.0
PRODID:SchoolNow
CALSCALE:GREGORIAN
BEGIN:VEVENT
UID:aec748ec-34c0-11ef-aa00-0e3f006457b7
DTSTAMP:20240924T204333Z
SUMMARY:Public Board of Education meeting (9/26)
DESCRIPTION:Anticipated executive session at 5:30 p.m.
LOCATION:Harriet Gibbons Student Services Center\, 75 Watervliet Ave.
URL;VALUE=URI:https://www.albanyschools.org/boe/calendar/6176182/public-boa
 rd-of-education-meeting-9-26
DTSTART:20240926T223000Z
DTEND:20240926T233000Z
END:VEVENT
END:VCALENDAR
