BEGIN:VCALENDAR
VERSION:2.0
PRODID:SchoolNow
CALSCALE:GREGORIAN
BEGIN:VEVENT
UID:bbf02f48-34c0-11ef-a77a-0a58a9feac02
DTSTAMP:20241009T115228Z
SUMMARY:Public Board of Education meeting (10/10)
DESCRIPTION:Anticipated executive session at 5:30 p.m.
LOCATION:Harriet Gibbons Student Services Center\, 75 Watervliet Ave.
URL;VALUE=URI:https://www.albanyschools.org/boe/calendar/6176184/public-boa
 rd-of-education-meeting-10-10
DTSTART:20241010T223000Z
DTEND:20241010T233000Z
END:VEVENT
END:VCALENDAR
