BEGIN:VCALENDAR
VERSION:2.0
PRODID:SchoolNow
CALSCALE:GREGORIAN
BEGIN:VEVENT
UID:c7a323ae-34c0-11ef-91f4-0a58a9feac02
DTSTAMP:20241023T144808Z
SUMMARY:Public Board of Education meeting (10/24)
DESCRIPTION:Anticipated executive session at 5:30 p.m.
LOCATION:Harriet Gibbons Student Services Center\, 75 Watervliet Ave.
URL;VALUE=URI:https://www.albanyschools.org/boe/calendar/6176186/public-boa
 rd-of-education-meeting-10-24
DTSTART:20241024T223000Z
DTEND:20241024T233000Z
END:VEVENT
END:VCALENDAR
