BEGIN:VCALENDAR
VERSION:2.0
PRODID:SchoolNow
CALSCALE:GREGORIAN
BEGIN:VEVENT
UID:ffb4167c-34c0-11ef-b50f-02de16e5324b
DTSTAMP:20241218T141319Z
SUMMARY:Public Board of Education meeting (12/19)
DESCRIPTION:Anticipated executive session at 5:30 p.m.
LOCATION:Harriet Gibbons Student Services Center\, 75 Watervliet Ave.
URL;VALUE=URI:https://www.albanyschools.org/boe/calendar/6176194/public-boa
 rd-of-education-meeting-12-19
DTSTART:20241219T233000Z
DTEND:20241220T003000Z
END:VEVENT
END:VCALENDAR
