BEGIN:VCALENDAR
VERSION:2.0
PRODID:SchoolNow
CALSCALE:GREGORIAN
BEGIN:VEVENT
UID:2a53228a-43ba-11ef-8854-0a58a9feac02
DTSTAMP:20240716T212712Z
SUMMARY:Board Facilities Committee meeting (7/16)
LOCATION:Harriet Gibbons Student Services Center\, 75 Watervliet Ave.
URL;VALUE=URI:https://www.albanyschools.org/boe/calendar/6268907/board-faci
 lities-committee-meeting-7-16
DTSTART:20240716T214500Z
DTEND:20240716T234500Z
END:VEVENT
END:VCALENDAR
