BEGIN:VCALENDAR
VERSION:2.0
PRODID:SchoolNow
CALSCALE:GREGORIAN
BEGIN:VEVENT
UID:4872bc9e-43ba-11ef-afed-0a58a9feac02
DTSTAMP:20240716T212803Z
SUMMARY:Board Policy Committee meeting (7/17)
LOCATION:Harriet Gibbons Student Services Center\, 75 Watervliet Ave.
URL;VALUE=URI:https://www.albanyschools.org/boe/calendar/6268908/board-poli
 cy-committee-meeting-7-17
DTSTART:20240717T213000Z
DTEND:20240717T233000Z
END:VEVENT
END:VCALENDAR
