BEGIN:VCALENDAR
VERSION:2.0
PRODID:SchoolNow
CALSCALE:GREGORIAN
BEGIN:VEVENT
UID:bad71c2c-4440-11ef-a14a-020f6be15a9d
DTSTAMP:20241112T155902Z
SUMMARY:Board Audit/Finance Committee meeting (11/14)
LOCATION:Harriet Gibbons Student Services Center\, 75 Watervliet Ave.
URL;VALUE=URI:https://www.albanyschools.org/boe/calendar/6272312/board-audi
 t-finance-committee-meeting-11-14
DTSTART:20241114T223000Z
DTEND:20241115T003000Z
END:VEVENT
END:VCALENDAR
