BEGIN:VCALENDAR
VERSION:2.0
PRODID:SchoolNow
CALSCALE:GREGORIAN
BEGIN:VEVENT
UID:422970de-4442-11ef-928b-0a58a9feac02
DTSTAMP:20240717T134124Z
SUMMARY:Board Audit/Finance Committee meeting (4/21)
LOCATION:Harriet Gibbons Student Services Center\, 75 Watervliet Ave.
URL;VALUE=URI:https://www.albanyschools.org/boe/calendar/6272314/board-audi
 t-finance-committee-meeting-4-21
DTSTART:20250421T213000Z
DTEND:20250421T233000Z
END:VEVENT
END:VCALENDAR
