BEGIN:VCALENDAR
VERSION:2.0
PRODID:SchoolNow
CALSCALE:GREGORIAN
BEGIN:VEVENT
UID:65be9510-4442-11ef-929a-0afff631acdd
DTSTAMP:20240806T191950Z
SUMMARY:Board Facilities Committee meeting (8/6)
LOCATION:Harriet Gibbons Student Services Center\, 75 Watervliet Ave.
URL;VALUE=URI:https://www.albanyschools.org/boe/calendar/6272315/board-faci
 lities-committee-meeting-8-6
DTSTART:20240806T214500Z
DTEND:20240806T234500Z
END:VEVENT
END:VCALENDAR
