BEGIN:VCALENDAR
VERSION:2.0
PRODID:SchoolNow
CALSCALE:GREGORIAN
BEGIN:VEVENT
UID:74184a48-4442-11ef-98ad-0a58a9feac02
DTSTAMP:20240717T134247Z
SUMMARY:Board Facilities Committee meeting (9/10)
LOCATION:Harriet Gibbons Student Services Center\, 75 Watervliet Ave.
URL;VALUE=URI:https://www.albanyschools.org/boe/calendar/6272316/board-faci
 lities-committee-meeting-9-10
DTSTART:20240910T214500Z
DTEND:20240910T234500Z
END:VEVENT
END:VCALENDAR
