BEGIN:VCALENDAR
VERSION:2.0
PRODID:SchoolNow
CALSCALE:GREGORIAN
BEGIN:VEVENT
UID:7f819e3e-4442-11ef-b8c5-0a58a9feac02
DTSTAMP:20240717T134307Z
SUMMARY:Board Facilities Committee meeting (10/8)
LOCATION:Harriet Gibbons Student Services Center\, 75 Watervliet Ave.
URL;VALUE=URI:https://www.albanyschools.org/boe/calendar/6272317/board-faci
 lities-committee-meeting-10-8
DTSTART:20241008T214500Z
DTEND:20241008T234500Z
END:VEVENT
END:VCALENDAR
