BEGIN:VCALENDAR
VERSION:2.0
PRODID:SchoolNow
CALSCALE:GREGORIAN
BEGIN:VEVENT
UID:8fb1e8f4-4442-11ef-b4f8-0261e29961bf
DTSTAMP:20240717T134334Z
SUMMARY:Board Facilities Committee meeting (11/12)
LOCATION:Harriet Gibbons Student Services Center\, 75 Watervliet Ave.
URL;VALUE=URI:https://www.albanyschools.org/boe/calendar/6272318/board-faci
 lities-committee-meeting-11-12
DTSTART:20241112T224500Z
DTEND:20241113T004500Z
END:VEVENT
END:VCALENDAR
