BEGIN:VCALENDAR
VERSION:2.0
PRODID:SchoolNow
CALSCALE:GREGORIAN
BEGIN:VEVENT
UID:9ea1a746-4442-11ef-b542-0e5bca4324e1
DTSTAMP:20240717T134359Z
SUMMARY:Board Facilities Committee meeting (12/10)
LOCATION:Harriet Gibbons Student Services Center\, 75 Watervliet Ave.
URL;VALUE=URI:https://www.albanyschools.org/boe/calendar/6272319/board-faci
 lities-committee-meeting-12-10
DTSTART:20241210T224500Z
DTEND:20241211T004500Z
END:VEVENT
END:VCALENDAR
