BEGIN:VCALENDAR
VERSION:2.0
PRODID:SchoolNow
CALSCALE:GREGORIAN
BEGIN:VEVENT
UID:a8c727aa-4442-11ef-97c4-0a58a9feac02
DTSTAMP:20240717T134416Z
SUMMARY:Board Facilities Committee meeting (1/7)
LOCATION:Harriet Gibbons Student Services Center\, 75 Watervliet Ave.
URL;VALUE=URI:https://www.albanyschools.org/boe/calendar/6272320/board-faci
 lities-committee-meeting-1-7
DTSTART:20250107T224500Z
DTEND:20250108T004500Z
END:VEVENT
END:VCALENDAR
