BEGIN:VCALENDAR
VERSION:2.0
PRODID:SchoolNow
CALSCALE:GREGORIAN
BEGIN:VEVENT
UID:3eeddde6-4443-11ef-8b96-0ea2de43dde3
DTSTAMP:20240717T134828Z
SUMMARY:Board Government Relations Committee meeting (7/24)
LOCATION:Harriet Gibbons Student Services Center\, 75 Watervliet Ave.
URL;VALUE=URI:https://www.albanyschools.org/boe/calendar/6272326/board-gove
 rnment-relations-committee-meeting-7-24
DTSTART:20240724T123000Z
DTEND:20240724T133000Z
END:VEVENT
END:VCALENDAR
