BEGIN:VCALENDAR
VERSION:2.0
PRODID:SchoolNow
CALSCALE:GREGORIAN
BEGIN:VEVENT
UID:4aba7b66-4443-11ef-a9dc-0ef335e2e327
DTSTAMP:20240909T210250Z
SUMMARY:Board Government Relations Committee meeting (9/10)
LOCATION:1 Academy Park
URL;VALUE=URI:https://www.albanyschools.org/boe/calendar/6272327/board-gove
 rnment-relations-committee-meeting-9-10
DTSTART:20240910T123000Z
DTEND:20240910T133000Z
END:VEVENT
END:VCALENDAR
