BEGIN:VCALENDAR
VERSION:2.0
PRODID:SchoolNow
CALSCALE:GREGORIAN
BEGIN:VEVENT
UID:55d50a2a-4443-11ef-b88c-0afff631acdd
DTSTAMP:20240717T134906Z
SUMMARY:Board Government Relations Committee meeting (10/16)
LOCATION:Harriet Gibbons Student Services Center\, 75 Watervliet Ave.
URL;VALUE=URI:https://www.albanyschools.org/boe/calendar/6272328/board-gove
 rnment-relations-committee-meeting-10-16
DTSTART:20241016T123000Z
DTEND:20241016T133000Z
END:VEVENT
END:VCALENDAR
