BEGIN:VCALENDAR
VERSION:2.0
PRODID:SchoolNow
CALSCALE:GREGORIAN
BEGIN:VEVENT
UID:67548988-4443-11ef-8116-0a58a9feac02
DTSTAMP:20240717T134936Z
SUMMARY:Board Government Relations Committee meeting (6/4)
LOCATION:Harriet Gibbons Student Services Center\, 75 Watervliet Ave.
URL;VALUE=URI:https://www.albanyschools.org/boe/calendar/6272329/board-gove
 rnment-relations-committee-meeting-6-4
DTSTART:20250604T123000Z
DTEND:20250604T133000Z
END:VEVENT
END:VCALENDAR
