BEGIN:VCALENDAR
VERSION:2.0
PRODID:SchoolNow
CALSCALE:GREGORIAN
BEGIN:VEVENT
UID:85e3f582-4443-11ef-8207-0261e29961bf
DTSTAMP:20240717T135027Z
SUMMARY:Board Policy Committee meeting (8/14)
LOCATION:Harriet Gibbons Student Services Center\, 75 Watervliet Ave.
URL;VALUE=URI:https://www.albanyschools.org/boe/calendar/6272330/board-poli
 cy-committee-meeting-8-14
DTSTART:20240814T213000Z
DTEND:20240814T233000Z
END:VEVENT
END:VCALENDAR
