BEGIN:VCALENDAR
VERSION:2.0
PRODID:SchoolNow
CALSCALE:GREGORIAN
BEGIN:VEVENT
UID:902c1c9a-4443-11ef-bd53-0261e29961bf
DTSTAMP:20240717T135044Z
SUMMARY:Board Policy Committee meeting (9/11)
LOCATION:Harriet Gibbons Student Services Center\, 75 Watervliet Ave.
URL;VALUE=URI:https://www.albanyschools.org/boe/calendar/6272331/board-poli
 cy-committee-meeting-9-11
DTSTART:20240911T213000Z
DTEND:20240911T233000Z
END:VEVENT
END:VCALENDAR
