BEGIN:VCALENDAR
VERSION:2.0
PRODID:SchoolNow
CALSCALE:GREGORIAN
BEGIN:VEVENT
UID:994276ee-4443-11ef-8844-02e13ea90adb
DTSTAMP:20241018T182326Z
SUMMARY:Board Policy Committee meeting (10/23)
LOCATION:Harriet Gibbons Student Services Center\, 75 Watervliet Ave.
URL;VALUE=URI:https://www.albanyschools.org/boe/calendar/6272332/board-poli
 cy-committee-meeting-10-23
DTSTART:20241023T213000Z
DTEND:20241023T233000Z
END:VEVENT
END:VCALENDAR
