BEGIN:VCALENDAR
VERSION:2.0
PRODID:SchoolNow
CALSCALE:GREGORIAN
BEGIN:VEVENT
UID:a4154db2-4443-11ef-9e78-02310d3a2033
DTSTAMP:20240717T135117Z
SUMMARY:Board Policy Committee meeting (11/6)
LOCATION:Harriet Gibbons Student Services Center\, 75 Watervliet Ave.
URL;VALUE=URI:https://www.albanyschools.org/boe/calendar/6272333/board-poli
 cy-committee-meeting-11-6
DTSTART:20241106T223000Z
DTEND:20241107T003000Z
END:VEVENT
END:VCALENDAR
