BEGIN:VCALENDAR
VERSION:2.0
PRODID:SchoolNow
CALSCALE:GREGORIAN
BEGIN:VEVENT
UID:b275c60c-4443-11ef-9024-0a58a9feac02
DTSTAMP:20240717T135142Z
SUMMARY:Board Policy Committee meeting (12/11)
LOCATION:Harriet Gibbons Student Services Center\, 75 Watervliet Ave.
URL;VALUE=URI:https://www.albanyschools.org/boe/calendar/6272334/board-poli
 cy-committee-meeting-12-11
DTSTART:20241211T223000Z
DTEND:20241212T003000Z
END:VEVENT
END:VCALENDAR
