BEGIN:VCALENDAR
VERSION:2.0
PRODID:SchoolNow
CALSCALE:GREGORIAN
BEGIN:VEVENT
UID:bd57c160-4443-11ef-8621-0a58a9feac02
DTSTAMP:20250103T145938Z
SUMMARY:Board Policy Committee meeting (1/15)
LOCATION:Harriet Gibbons Student Services Center\, 75 Watervliet Ave.
URL;VALUE=URI:https://www.albanyschools.org/boe/calendar/6272335/board-poli
 cy-committee-meeting-1-8
DTSTART:20250115T223000Z
DTEND:20250116T003000Z
END:VEVENT
END:VCALENDAR
