BEGIN:VCALENDAR
VERSION:2.0
PRODID:SchoolNow
CALSCALE:GREGORIAN
BEGIN:VEVENT
UID:c7681b64-4443-11ef-91ec-0a58a9feac02
DTSTAMP:20250108T222633Z
SUMMARY:Board Policy Committee meeting (2/12)
LOCATION:Harriet Gibbons Student Services Center\, 75 Watervliet Ave.
URL;VALUE=URI:https://www.albanyschools.org/boe/calendar/6272336/board-poli
 cy-committee-meeting-2-12
DTSTART:20250212T223000Z
DTEND:20250213T003000Z
END:VEVENT
END:VCALENDAR
