BEGIN:VCALENDAR
VERSION:2.0
PRODID:SchoolNow
CALSCALE:GREGORIAN
BEGIN:VEVENT
UID:d1aab4b0-4443-11ef-a0f4-0a58a9feac02
DTSTAMP:20250304T001342Z
SUMMARY:Board Policy Committee meeting (3/4)
LOCATION:Harriet Gibbons Student Services Center\, 75 Watervliet Ave.
URL;VALUE=URI:https://www.albanyschools.org/boe/calendar/6272337/board-poli
 cy-committee-meeting-3-4
DTSTART:20250304T223000Z
DTEND:20250305T003000Z
END:VEVENT
END:VCALENDAR
