BEGIN:VCALENDAR
VERSION:2.0
PRODID:SchoolNow
CALSCALE:GREGORIAN
BEGIN:VEVENT
UID:dbe553e0-4443-11ef-a0f6-0a58a9feac02
DTSTAMP:20240717T135251Z
SUMMARY:Board Policy Committee meeting (4/9)
LOCATION:Harriet Gibbons Student Services Center\, 75 Watervliet Ave.
URL;VALUE=URI:https://www.albanyschools.org/boe/calendar/6272338/board-poli
 cy-committee-meeting-4-9
DTSTART:20250409T213000Z
DTEND:20250409T233000Z
END:VEVENT
END:VCALENDAR
