BEGIN:VCALENDAR
VERSION:2.0
PRODID:SchoolNow
CALSCALE:GREGORIAN
BEGIN:VEVENT
UID:e71eca84-4443-11ef-98da-02310d3a2033
DTSTAMP:20240717T135310Z
SUMMARY:Board Policy Committee meeting (5/14)
LOCATION:Harriet Gibbons Student Services Center\, 75 Watervliet Ave.
URL;VALUE=URI:https://www.albanyschools.org/boe/calendar/6272339/board-poli
 cy-committee-meeting-5-14
DTSTART:20250514T213000Z
DTEND:20250514T233000Z
END:VEVENT
END:VCALENDAR
