BEGIN:VCALENDAR
VERSION:2.0
PRODID:SchoolNow
CALSCALE:GREGORIAN
BEGIN:VEVENT
UID:f5c6aebc-4443-11ef-ac36-020f6be15a9d
DTSTAMP:20250611T163219Z
SUMMARY:Board Policy Committee meeting (6/11)
LOCATION:Albany High School (library)\, 700 Washington Ave.\, Albany\, NY 1
 2203
URL;VALUE=URI:https://www.albanyschools.org/boe/calendar/6272340/board-poli
 cy-committee-meeting-6-11
DTSTART:20250611T213000Z
DTEND:20250611T233000Z
END:VEVENT
END:VCALENDAR
