BEGIN:VCALENDAR
VERSION:2.0
PRODID:SchoolNow
CALSCALE:GREGORIAN
BEGIN:VEVENT
UID:3b10b8e6-4444-11ef-8841-0261e29961bf
DTSTAMP:20250122T153239Z
SUMMARY:Public Board of Education meeting (1/23)
DESCRIPTION:Anticipated executive session at 5:30 p.m.
LOCATION:Harriet Gibbons Student Services Center\, 75 Watervliet Ave.
URL;VALUE=URI:https://www.albanyschools.org/boe/calendar/6272342/public-boa
 rd-of-education-meeting-1-23
DTSTART:20250123T233000Z
DTEND:20250124T003000Z
END:VEVENT
END:VCALENDAR
