BEGIN:VCALENDAR
VERSION:2.0
PRODID:SchoolNow
CALSCALE:GREGORIAN
BEGIN:VEVENT
UID:523d1d70-4444-11ef-a6a8-0a58a9feac02
DTSTAMP:20250226T134211Z
SUMMARY:Public Board of Education meeting (2/27)
DESCRIPTION:Anticipated executive session at 5:30 p.m.
LOCATION:Harriet Gibbons Student Services Center\, 75 Watervliet Ave.
URL;VALUE=URI:https://www.albanyschools.org/boe/calendar/6272344/public-boa
 rd-of-education-meeting-2-27
DTSTART:20250227T233000Z
DTEND:20250228T003000Z
END:VEVENT
END:VCALENDAR
