BEGIN:VCALENDAR
VERSION:2.0
PRODID:SchoolNow
CALSCALE:GREGORIAN
BEGIN:VEVENT
UID:70abf0ce-4444-11ef-9433-02310d3a2033
DTSTAMP:20250409T133124Z
SUMMARY:Public Board of Education meeting (4/10)
DESCRIPTION:Anticipated executive session at 5:30 p.m.
LOCATION:Harriet Gibbons Student Services Center\, 75 Watervliet Ave.
URL;VALUE=URI:https://www.albanyschools.org/boe/calendar/6272347/public-boa
 rd-of-education-meeting-4-10
DTSTART:20250410T223000Z
DTEND:20250410T233000Z
END:VEVENT
END:VCALENDAR
