BEGIN:VCALENDAR
VERSION:2.0
PRODID:SchoolNow
CALSCALE:GREGORIAN
BEGIN:VEVENT
UID:9f341a34-4444-11ef-9d78-0a58a9feac02
DTSTAMP:20250604T154259Z
SUMMARY:Public Board of Education meeting (6/5)
DESCRIPTION:Anticipated executive session at 5:30 p.m.
LOCATION:Harriet Gibbons Student Services Center\, 75 Watervliet Ave.
URL;VALUE=URI:https://www.albanyschools.org/boe/calendar/6272351/public-boa
 rd-of-education-meeting-6-5
DTSTART:20250605T223000Z
DTEND:20250605T233000Z
END:VEVENT
END:VCALENDAR
