BEGIN:VCALENDAR
VERSION:2.0
PRODID:SchoolNow
CALSCALE:GREGORIAN
BEGIN:VEVENT
UID:afc80b58-4444-11ef-a21c-0a58a9feac02
DTSTAMP:20250624T222117Z
SUMMARY:Public Board of Education meeting (6/26)
DESCRIPTION:Anticipated executive session at 5:30 p.m.
LOCATION:Harriet Gibbons Student Services Center\, 75 Watervliet Ave.
URL;VALUE=URI:https://www.albanyschools.org/boe/calendar/6272352/public-boa
 rd-of-education-meeting-6-26
DTSTART:20250626T223000Z
DTEND:20250626T233000Z
END:VEVENT
END:VCALENDAR
