BEGIN:VCALENDAR
VERSION:2.0
PRODID:SchoolNow
CALSCALE:GREGORIAN
BEGIN:VEVENT
UID:f967cf22-4dcd-11ef-896e-0a58a9feac02
DTSTAMP:20240729T172041Z
SUMMARY:Board Ad Hoc Routine Consent Committee meeting (7/29)
LOCATION:Harriet Gibbons Student Services Center\, 75 Watervliet Ave.
URL;VALUE=URI:https://www.albanyschools.org/boe/calendar/6324500/board-ad-h
 oc-routine-consent-committee-meeting-7-29
DTSTART:20240729T213000Z
DTEND:20240729T223000Z
END:VEVENT
END:VCALENDAR
