BEGIN:VCALENDAR
VERSION:2.0
PRODID:SchoolNow
CALSCALE:GREGORIAN
BEGIN:VEVENT
UID:3f171e06-4dce-11ef-90a8-0a58a9feac02
DTSTAMP:20240729T172049Z
SUMMARY:Board Ad Hoc Routine Consent Committee meeting (8/12)
LOCATION:Harriet Gibbons Student Services Center\, 75 Watervliet Ave.
URL;VALUE=URI:https://www.albanyschools.org/boe/calendar/6324501/board-ad-h
 oc-routine-consent-committee-meeting-8-12
DTSTART:20240812T213000Z
DTEND:20240812T223000Z
END:VEVENT
END:VCALENDAR
