BEGIN:VCALENDAR
VERSION:2.0
PRODID:SchoolNow
CALSCALE:GREGORIAN
BEGIN:VEVENT
UID:0c876ca6-4dcf-11ef-86dd-021fa7d0772d
DTSTAMP:20240729T172153Z
SUMMARY:Board Ad Hoc Routine Consent Committee meeting (10/28)
LOCATION:Harriet Gibbons Student Services Center\, 75 Watervliet Ave.
URL;VALUE=URI:https://www.albanyschools.org/boe/calendar/6324506/board-ad-h
 oc-routine-consent-committee-meeting-10-28
DTSTART:20241028T213000Z
DTEND:20241028T223000Z
END:VEVENT
END:VCALENDAR
