BEGIN:VCALENDAR
VERSION:2.0
PRODID:SchoolNow
CALSCALE:GREGORIAN
BEGIN:VEVENT
UID:1dc75918-4dcf-11ef-9470-021fa7d0772d
DTSTAMP:20241111T144136Z
SUMMARY:Board Ad Hoc Routine Consent Committee meeting (11/12)
LOCATION:1 Academy Park\, Albany\, NY 12207
URL;VALUE=URI:https://www.albanyschools.org/boe/calendar/6324507/board-ad-h
 oc-routine-consent-committee-meeting-11-12
DTSTART:20241112T211500Z
DTEND:20241112T221500Z
END:VEVENT
END:VCALENDAR
