BEGIN:VCALENDAR
VERSION:2.0
PRODID:SchoolNow
CALSCALE:GREGORIAN
BEGIN:VEVENT
UID:32d63900-4dcf-11ef-8c7a-0a58a9feac02
DTSTAMP:20240729T172257Z
SUMMARY:Board Ad Hoc Routine Consent Committee meeting (12/9)
LOCATION:Harriet Gibbons Student Services Center\, 75 Watervliet Ave.
URL;VALUE=URI:https://www.albanyschools.org/boe/calendar/6324509/board-ad-h
 oc-routine-consent-committee-meeting-12-9
DTSTART:20241209T223000Z
DTEND:20241209T233000Z
END:VEVENT
END:VCALENDAR
