BEGIN:VCALENDAR
VERSION:2.0
PRODID:SchoolNow
CALSCALE:GREGORIAN
BEGIN:VEVENT
UID:3eb7ce82-4dcf-11ef-a130-0e132b487bcb
DTSTAMP:20240729T172317Z
SUMMARY:Board Ad Hoc Routine Consent Committee meeting (12/16)
LOCATION:Harriet Gibbons Student Services Center\, 75 Watervliet Ave.
URL;VALUE=URI:https://www.albanyschools.org/boe/calendar/6324510/board-ad-h
 oc-routine-consent-committee-meeting-12-16
DTSTART:20241216T223000Z
DTEND:20241216T233000Z
END:VEVENT
END:VCALENDAR
