BEGIN:VCALENDAR
VERSION:2.0
PRODID:SchoolNow
CALSCALE:GREGORIAN
BEGIN:VEVENT
UID:4a645ed0-4dcf-11ef-afa4-0a58a9feac02
DTSTAMP:20240729T172337Z
SUMMARY:Board Ad Hoc Routine Consent Committee meeting (1/13)
LOCATION:Harriet Gibbons Student Services Center\, 75 Watervliet Ave.
URL;VALUE=URI:https://www.albanyschools.org/boe/calendar/6324511/board-ad-h
 oc-routine-consent-committee-meeting-1-13
DTSTART:20250113T223000Z
DTEND:20250113T233000Z
END:VEVENT
END:VCALENDAR
