BEGIN:VCALENDAR
VERSION:2.0
PRODID:SchoolNow
CALSCALE:GREGORIAN
BEGIN:VEVENT
UID:742c9cb4-4dcf-11ef-aea4-0e132b487bcb
DTSTAMP:20240729T172447Z
SUMMARY:Board Ad Hoc Routine Consent Committee meeting (3/3)
LOCATION:Harriet Gibbons Student Services Center\, 75 Watervliet Ave.
URL;VALUE=URI:https://www.albanyschools.org/boe/calendar/6324514/board-ad-h
 oc-routine-consent-committee-meeting-3-3
DTSTART:20250303T223000Z
DTEND:20250303T233000Z
END:VEVENT
END:VCALENDAR
