BEGIN:VCALENDAR
VERSION:2.0
PRODID:SchoolNow
CALSCALE:GREGORIAN
BEGIN:VEVENT
UID:bb66d25c-4dcf-11ef-a41a-0a58a9feac02
DTSTAMP:20250509T135333Z
SUMMARY:Board Ad Hoc Routine Consent Committee meeting (5/19)
LOCATION:Harriet Gibbons Student Services Center\, 75 Watervliet Ave.
URL;VALUE=URI:https://www.albanyschools.org/boe/calendar/6324521/board-ad-h
 oc-routine-consent-committee-meeting-5-19
DTSTART:20250519T213000Z
DTEND:20250519T223000Z
END:VEVENT
END:VCALENDAR
