BEGIN:VCALENDAR
VERSION:2.0
PRODID:SchoolNow
CALSCALE:GREGORIAN
BEGIN:VEVENT
UID:ca7cc148-4dcf-11ef-9f7f-0a58a9feac02
DTSTAMP:20240729T172712Z
SUMMARY:Board Ad Hoc Routine Consent Committee meeting (6/9)
LOCATION:Harriet Gibbons Student Services Center\, 75 Watervliet Ave.
URL;VALUE=URI:https://www.albanyschools.org/boe/calendar/6324523/board-ad-h
 oc-routine-consent-committee-meeting-6-9
DTSTART:20250609T213000Z
DTEND:20250609T223000Z
END:VEVENT
END:VCALENDAR
