BEGIN:VCALENDAR
VERSION:2.0
PRODID:SchoolNow
CALSCALE:GREGORIAN
BEGIN:VEVENT
UID:02602a8a-63f3-11ef-99a7-02bb2954524f
DTSTAMP:20240826T213444Z
SUMMARY:Board of Education special meeting (9/3)
LOCATION:Harriet Gibbons Student Services Center\, 75 Watervliet Ave.
URL;VALUE=URI:https://www.albanyschools.org/boe/calendar/6463527/board-of-e
 ducation-special-meeting-9-3
DTSTART:20240903T213000Z
DTEND:20240904T010000Z
END:VEVENT
END:VCALENDAR
