BEGIN:VCALENDAR
VERSION:2.0
PRODID:SchoolNow
CALSCALE:GREGORIAN
BEGIN:VEVENT
UID:a1f3290a-6482-11ef-8222-023bb7427cd1
DTSTAMP:20250214T143431Z
SUMMARY:School Budget Vote & Board Election
URL;VALUE=URI:https://www.albanyschools.org/boe/calendar/6467262/school-bud
 get-vote-and-board-election
DTSTART;VALUE=DATE:20250520
DTEND;VALUE=DATE:20250521
END:VEVENT
END:VCALENDAR
