BEGIN:VCALENDAR
VERSION:2.0
PRODID:SchoolNow
CALSCALE:GREGORIAN
BEGIN:VEVENT
UID:0de2ed12-753b-11ef-a80a-0a58a9feac02
DTSTAMP:20240917T212317Z
SUMMARY:Board of Education special meeting (9/19)
LOCATION:Harriet Gibbons Student Services Center\, 75 Watervliet Ave.
URL;VALUE=URI:https://www.albanyschools.org/boe/calendar/6628271/board-of-e
 ducation-special-meeting-9-19
DTSTART:20240919T213000Z
DTEND:20240920T010000Z
END:VEVENT
END:VCALENDAR
