BEGIN:VCALENDAR
VERSION:2.0
PRODID:SchoolNow
CALSCALE:GREGORIAN
BEGIN:VEVENT
UID:a38b6bbe-8d91-11ef-9ede-0e181c97a217
DTSTAMP:20241018T204356Z
SUMMARY:Board Facilities Committee meeting (10/22)
DESCRIPTION:Anticipated executive session at 5:30 p.m.
LOCATION:Albany High School
URL;VALUE=URI:https://www.albanyschools.org/boe/calendar/6852622/public-boa
 rd-of-education-meeting-11-21-clone
DTSTART:20241022T214500Z
DTEND:20241022T224500Z
END:VEVENT
END:VCALENDAR
