BEGIN:VCALENDAR
VERSION:2.0
PRODID:SchoolNow
CALSCALE:GREGORIAN
BEGIN:VEVENT
UID:37ef288a-920c-11ef-bfbc-028f8cccbef7
DTSTAMP:20241029T143253Z
SUMMARY:Board of Education special meeting (10/30)
LOCATION:Harriet Gibbons Student Services Center\, 75 Watervliet Ave.
URL;VALUE=URI:https://www.albanyschools.org/boe/calendar/6889502/board-of-e
 ducation-special-meeting-10-30
DTSTART:20241030T213000Z
DTEND:20241030T220000Z
END:VEVENT
END:VCALENDAR
